BEGIN:VCALENDAR
VERSION:2.0
PRODID:-//lumenchristicc.org//eCatholic//EN
X-WR-TIMEZONE:LocalTZ
BEGIN:VTIMEZONE
TZID:LocalTZ
X-LIC-LOCATION:LocalTZ
BEGIN:DAYLIGHT
TZOFFSETFROM:-0600
TZOFFSETTO:-0500
TZNAME:LocalTZ
DTSTART:19700308T020000
RRULE:FREQ=YEARLY;BYMONTH=3;BYDAY=2SU
END:DAYLIGHT
BEGIN:STANDARD
TZOFFSETFROM:-0500
TZOFFSETTO:-0600
TZNAME:LocalTZ
DTSTART:19701101T020000
RRULE:FREQ=YEARLY;BYMONTH=11;BYDAY=1SU
END:STANDARD
END:VTIMEZONE
BEGIN:VEVENT
UID:1638589@lumenchristicc.org
DTSTAMP:20260424T192029Z
DTSTART:20260427T081500
DTEND:20260427T120000
RRULE:FREQ=WEEKLY;BYDAY=MO
EXDATE:20211227T081500,20220117T081500,20220124T081500,20220221T081500,202
 30102T081500,20230220T081500,20230320T081500,20230410T081500,20240401T0815
 00,20250804T081500,20260119T081500
SUMMARY:Eucharistic Adoration
DESCRIPTION:All are invited to drop in any time for quiet prayer.
END:VEVENT
BEGIN:VEVENT
UID:1638592@lumenchristicc.org
DTSTAMP:20260424T192029Z
DTSTART:20260505T170000
DTEND:20260505T180000
RRULE:FREQ=MONTHLY;BYDAY=TU;BYSETPOS=1
EXDATE:20240702T170000,20250805T170000
SUMMARY:Parish Council Executive Committee
END:VEVENT
BEGIN:VEVENT
UID:1642631@lumenchristicc.org
DTSTAMP:20260424T192029Z
DTSTART;VALUE=DATE:20260503
DTEND;VALUE=DATE:20260504
RRULE:FREQ=MONTHLY;BYDAY=SU;BYSETPOS=1
SUMMARY:Food Market Collection for Neighborhood House
DESCRIPTION:Give food\, cash\, check or on our Donate page.
END:VEVENT
BEGIN:VEVENT
UID:1642661@lumenchristicc.org
DTSTAMP:20260424T192029Z
DTSTART:20260506T180000
DTEND:20260506T193000
RRULE:FREQ=MONTHLY;BYDAY=WE;BYSETPOS=1
EXDATE:20240703T180000,20240904T180000,20260304T180000
SUMMARY:Social Justice Committee
DESCRIPTION:Contact Steve Regnier\, Director of Care\, Support and Justice
 \, to get involved. sregnier@lumenchristicc.org.
END:VEVENT
BEGIN:VEVENT
UID:2185449@lumenchristicc.org
DTSTAMP:20260424T192029Z
DTSTART:20260426T083000
DTEND:20260426T093000
RRULE:FREQ=WEEKLY;BYDAY=SU
EXDATE:20231224T083000,20240331T083000
SUMMARY:Sunday Mass - 8:30 AM
DESCRIPTION:Sunday Mass in the Main Church 8:30 AM - livestreamed
END:VEVENT
BEGIN:VEVENT
UID:2203298@lumenchristicc.org
DTSTAMP:20260424T192029Z
DTSTART:20260425T163000
DTEND:20260425T173000
RRULE:FREQ=WEEKLY;BYDAY=SA
EXDATE:20230909T163000,20231223T163000,20240330T163000,20240907T163000,202
 41102T163000,20250906T163000
SUMMARY:Saturday Mass
DESCRIPTION:Saturday Mass in the Main Church at 4:30 PM
END:VEVENT
BEGIN:VEVENT
UID:2251083@lumenchristicc.org
DTSTAMP:20260424T192029Z
DTSTART:20260426T093000
DTEND:20260426T101500
RRULE:FREQ=MONTHLY;BYDAY=SU;BYSETPOS=4
EXDATE:20231022T093000,20231126T093000,20231224T093000,20240128T093000,202
 40324T093000,20240526T093000,20240623T093000
SUMMARY:Family Faith Formation
END:VEVENT
BEGIN:VEVENT
UID:2491803@lumenchristicc.org
DTSTAMP:20260424T192029Z
DTSTART:20260425T153000
DTEND:20260425T160000
RRULE:FREQ=WEEKLY;BYDAY=SA
EXDATE:20240907T153000,20240907T153000,20250906T153000
SUMMARY:Reconciliation
END:VEVENT
BEGIN:VEVENT
UID:2578753@lumenchristicc.org
DTSTAMP:20260424T192029Z
DTSTART:20260519T180000
DTEND:20260519T193000
RRULE:FREQ=MONTHLY;BYDAY=TU;BYSETPOS=3
SUMMARY:Parish Council Meeting
END:VEVENT
BEGIN:VEVENT
UID:2599703@lumenchristicc.org
DTSTAMP:20260424T192029Z
DTSTART:20260426T103000
DTEND:20260426T113000
RRULE:FREQ=WEEKLY;BYDAY=SU
SUMMARY:Sunday Mass - 10:30 AM
DESCRIPTION:Sunday Mass in the Main Church 10:30 AM
END:VEVENT
BEGIN:VEVENT
UID:2687467@lumenchristicc.org
DTSTAMP:20260424T192029Z
DTSTART:20260427T074500
DTEND:20260427T081500
RRULE:FREQ=WEEKLY;BYDAY=MO
SUMMARY:Daily Mass
END:VEVENT
BEGIN:VEVENT
UID:2687470@lumenchristicc.org
DTSTAMP:20260424T192029Z
DTSTART:20260428T074500
DTEND:20260428T081500
RRULE:FREQ=WEEKLY;BYDAY=TU
SUMMARY:Daily Mass
END:VEVENT
BEGIN:VEVENT
UID:2687472@lumenchristicc.org
DTSTAMP:20260424T192029Z
DTSTART:20260429T074500
DTEND:20260429T081500
RRULE:FREQ=WEEKLY;BYDAY=WE
EXDATE:20260218T074500
SUMMARY:Daily Mass
END:VEVENT
BEGIN:VEVENT
UID:2687475@lumenchristicc.org
DTSTAMP:20260424T192029Z
DTSTART:20260430T074500
DTEND:20260430T081500
RRULE:FREQ=WEEKLY;BYDAY=TH
EXDATE:20250417T074500,20251127T074500
SUMMARY:Daily Mass
END:VEVENT
BEGIN:VEVENT
UID:2687480@lumenchristicc.org
DTSTAMP:20260424T192029Z
DTSTART:20260424T074500
DTEND:20260424T081500
RRULE:FREQ=WEEKLY;BYDAY=FR
EXDATE:20250418T074500
SUMMARY:Daily Mass
END:VEVENT
BEGIN:VEVENT
UID:3045401@lumenchristicc.org
DTSTAMP:20260424T192029Z
DTSTART:20260429T160000
DTEND:20260429T164500
RRULE:FREQ=WEEKLY;UNTIL=20270527;BYDAY=WE
SUMMARY:Contemplative Prayer
END:VEVENT
BEGIN:VEVENT
UID:3081100@lumenchristicc.org
DTSTAMP:20260424T192029Z
DTSTART:20260425T100000
DTEND:20260425T120000
SUMMARY:Shred Event
END:VEVENT
END:VCALENDAR
